BEGIN:VCALENDAR
VERSION:2.0
PRODID:-//UK Sacred Harp Calendar - ECPv5.16.4.1//NONSGML v1.0//EN
CALSCALE:GREGORIAN
METHOD:PUBLISH
X-WR-CALNAME:UK Sacred Harp Calendar
X-ORIGINAL-URL:https://www.sacredharp.uk
X-WR-CALDESC:Events for UK Sacred Harp Calendar
BEGIN:VTIMEZONE
TZID:Europe/London
BEGIN:DAYLIGHT
TZOFFSETFROM:+0000
TZOFFSETTO:+0100
TZNAME:BST
DTSTART:20250330T010000
END:DAYLIGHT
BEGIN:STANDARD
TZOFFSETFROM:+0100
TZOFFSETTO:+0000
TZNAME:GMT
DTSTART:20251026T010000
END:STANDARD
END:VTIMEZONE
BEGIN:VEVENT
DTSTART;TZID=Europe/London:20250724T150000
DTEND;TZID=Europe/London:20250727T150000
DTSTAMP:20260422T105015
CREATED:20240916T162346Z
LAST-MODIFIED:20250721T065239Z
UID:2836-1753369200-1753628400@www.sacredharp.uk
SUMMARY:Camp DoReMi Europe
DESCRIPTION:Residential camp with tuition. Stay in a beautiful remote eco community and sing in the 7th century Chapel of St Peter-on-the-Wall. \n\nOthona Bradwell Covid policy.
URL:https://www.sacredharp.uk/event/camp-doremi-europe-2025/
LOCATION:Othona Community\, East End Road\, Bradwell-on-Sea\, Essex\, CM0 7PN\, United Kingdom
CATEGORIES:Christian Harmony
ORGANIZER;CN="Werner%20Ullah":MAILTO:socwu@talktalk.com
STATUS:CONFIRMED
END:VEVENT
END:VCALENDAR