BEGIN:VCALENDAR
VERSION:2.0
PRODID:-//UK Sacred Harp Calendar - ECPv5.16.4.1//NONSGML v1.0//EN
CALSCALE:GREGORIAN
METHOD:PUBLISH
X-WR-CALNAME:UK Sacred Harp Calendar
X-ORIGINAL-URL:https://www.sacredharp.uk
X-WR-CALDESC:Events for UK Sacred Harp Calendar
BEGIN:VTIMEZONE
TZID:Asia/Kolkata
BEGIN:STANDARD
TZOFFSETFROM:+0530
TZOFFSETTO:+0530
TZNAME:IST
DTSTART:20230101T000000
END:STANDARD
END:VTIMEZONE
BEGIN:VEVENT
DTSTART;TZID=Asia/Kolkata:20230702T120000
DTEND;TZID=Asia/Kolkata:20230702T170000
DTSTAMP:20260419T201003
CREATED:20230315T075811Z
LAST-MODIFIED:20230625T184552Z
UID:2218-1688299200-1688317200@www.sacredharp.uk
SUMMARY:Delhi singing
DESCRIPTION:
URL:https://www.sacredharp.uk/event/delhi-singing-2023/
LOCATION:Black Sheep Records\, A-163/1\, HK house\, 1st Floor\, Lado Sarai\, New Delhi\, Delhi\, 110030\, India
CATEGORIES:1991 edition Sacred Harp
ORGANIZER;CN="Paul%20Zaba":MAILTO:delhisacredharp@gmail.com
STATUS:CONFIRMED
END:VEVENT
END:VCALENDAR