BEGIN:VCALENDAR
VERSION:2.0
PRODID:-//UK Sacred Harp Calendar - ECPv5.16.4.1//NONSGML v1.0//EN
CALSCALE:GREGORIAN
METHOD:PUBLISH
X-WR-CALNAME:UK Sacred Harp Calendar
X-ORIGINAL-URL:https://www.sacredharp.uk
X-WR-CALDESC:Events for UK Sacred Harp Calendar
BEGIN:VTIMEZONE
TZID:Europe/London
BEGIN:DAYLIGHT
TZOFFSETFROM:+0000
TZOFFSETTO:+0100
TZNAME:BST
DTSTART:20210328T010000
END:DAYLIGHT
BEGIN:STANDARD
TZOFFSETFROM:+0100
TZOFFSETTO:+0000
TZNAME:GMT
DTSTART:20211031T010000
END:STANDARD
END:VTIMEZONE
BEGIN:VEVENT
DTSTART;TZID=Europe/London:20211016T120000
DTEND;TZID=Europe/London:20211016T150000
DTSTAMP:20260420T233434
CREATED:20201009T073456Z
LAST-MODIFIED:20210930T174959Z
UID:640-1634385600-1634396400@www.sacredharp.uk
SUMMARY:Edinburgh autumn singing
DESCRIPTION:Denson Sacred Harp\, with Shenandoah optional depending on attendance.  \nTicketed event: must ask permission from the organiser. Full details and requirements will be shared on request.
URL:https://www.sacredharp.uk/event/edinburgh-shenandoah-singing-2/
LOCATION:GDS Church\, 190-192 Gorgie Road\, Edinburgh\, EH11 2NX\, United Kingdom
CATEGORIES:1991 edition Sacred Harp,Shenandoah Harmony
ORGANIZER;CN="Jan%20Geerts":MAILTO:shape-note@outlook.com
STATUS:CONFIRMED
END:VEVENT
END:VCALENDAR