BEGIN:VCALENDAR
VERSION:2.0
PRODID:-//UK Sacred Harp Calendar - ECPv5.16.4.1//NONSGML v1.0//EN
CALSCALE:GREGORIAN
METHOD:PUBLISH
X-WR-CALNAME:UK Sacred Harp Calendar
X-ORIGINAL-URL:https://www.sacredharp.uk
X-WR-CALDESC:Events for UK Sacred Harp Calendar
BEGIN:VTIMEZONE
TZID:Europe/London
BEGIN:DAYLIGHT
TZOFFSETFROM:+0000
TZOFFSETTO:+0100
TZNAME:BST
DTSTART:20220327T010000
END:DAYLIGHT
BEGIN:STANDARD
TZOFFSETFROM:+0100
TZOFFSETTO:+0000
TZNAME:GMT
DTSTART:20221030T010000
END:STANDARD
END:VTIMEZONE
BEGIN:VEVENT
DTSTART;TZID=Europe/London:20221029T103000
DTEND;TZID=Europe/London:20221029T160000
DTSTAMP:20260420T030950
CREATED:20220213T153410Z
LAST-MODIFIED:20220905T201847Z
UID:1291-1667039400-1667059200@www.sacredharp.uk
SUMMARY:London singing
DESCRIPTION:Thursday evening: regular singing from the Denson Sacred Harp in Southwark.\n \nFriday evening: 7-shape and 4-shape composium at St Mary’s Primrose Hill. \nSaturday: All day singing with dinner on the grounds\, followed by social. \nSunday: All day singing from the Christian Harmony.
URL:https://www.sacredharp.uk/event/london-singing/2022-10-29/
LOCATION:Highgate United Reformed Church\, Pond Square Chapel\, South Grove\, Highgate\, London\, N6 6BJ\, United Kingdom
CATEGORIES:1991 edition Sacred Harp
ORGANIZER;CN="London%20Sacred%20Harp":MAILTO:londonsacredharp@gmail.com
STATUS:CONFIRMED
END:VEVENT
END:VCALENDAR