BEGIN:VCALENDAR
VERSION:2.0
PRODID:-//UK Sacred Harp Calendar - ECPv5.16.4.1//NONSGML v1.0//EN
CALSCALE:GREGORIAN
METHOD:PUBLISH
X-WR-CALNAME:UK Sacred Harp Calendar
X-ORIGINAL-URL:https://www.sacredharp.uk
X-WR-CALDESC:Events for UK Sacred Harp Calendar
BEGIN:VTIMEZONE
TZID:Europe/London
BEGIN:DAYLIGHT
TZOFFSETFROM:+0000
TZOFFSETTO:+0100
TZNAME:BST
DTSTART:20140330T010000
END:DAYLIGHT
BEGIN:STANDARD
TZOFFSETFROM:+0100
TZOFFSETTO:+0000
TZNAME:GMT
DTSTART:20141026T010000
END:STANDARD
END:VTIMEZONE
BEGIN:VEVENT
DTSTART;TZID=Europe/London:20140621T103000
DTEND;TZID=Europe/London:20140621T160000
DTSTAMP:20260421T095554
CREATED:20220627T113714Z
LAST-MODIFIED:20220627T130105Z
UID:1841-1403346600-1403366400@www.sacredharp.uk
SUMMARY:Oxford singing
DESCRIPTION:
URL:https://www.sacredharp.uk/event/oxford-singing/2014-06-21/
LOCATION:Seacourt Hall\, Chapel Way\, Botley\, Oxford\, OX2 9LS\, United Kingdom
CATEGORIES:1991 edition Sacred Harp
ORGANIZER;CN="Sheila%20and%20Edwin%20Macadam":MAILTO:shelwin8@tiscali.co.uk
STATUS:CONFIRMED
END:VEVENT
END:VCALENDAR