BEGIN:VCALENDAR
VERSION:2.0
PRODID:-//UK Sacred Harp Calendar - ECPv5.16.4.1//NONSGML v1.0//EN
CALSCALE:GREGORIAN
METHOD:PUBLISH
X-WR-CALNAME:UK Sacred Harp Calendar
X-ORIGINAL-URL:https://www.sacredharp.uk
X-WR-CALDESC:Events for UK Sacred Harp Calendar
BEGIN:VTIMEZONE
TZID:Europe/London
BEGIN:DAYLIGHT
TZOFFSETFROM:+0000
TZOFFSETTO:+0100
TZNAME:BST
DTSTART:20210328T010000
END:DAYLIGHT
BEGIN:STANDARD
TZOFFSETFROM:+0100
TZOFFSETTO:+0000
TZNAME:GMT
DTSTART:20211031T010000
END:STANDARD
END:VTIMEZONE
BEGIN:VEVENT
DTSTART;TZID=Europe/London:20210626T110000
DTEND;TZID=Europe/London:20210626T153000
DTSTAMP:20260421T123017
CREATED:20220627T113715Z
LAST-MODIFIED:20220627T114107Z
UID:1848-1624705200-1624721400@www.sacredharp.uk
SUMMARY:Oxford singing
DESCRIPTION:Socially distanced outdoor singing. Please contact organisers for details.
URL:https://www.sacredharp.uk/event/oxford-singing/2021-06-26/
LOCATION:Oxford\, United Kingdom
CATEGORIES:1991 edition Sacred Harp
ORGANIZER;CN="Sheila%20and%20Edwin%20Macadam":MAILTO:shelwin8@tiscali.co.uk
STATUS:CONFIRMED
END:VEVENT
END:VCALENDAR