BEGIN:VCALENDAR
VERSION:2.0
PRODID:-//UK Sacred Harp Calendar - ECPv5.16.4.1//NONSGML v1.0//EN
CALSCALE:GREGORIAN
METHOD:PUBLISH
X-WR-CALNAME:UK Sacred Harp Calendar
X-ORIGINAL-URL:https://www.sacredharp.uk
X-WR-CALDESC:Events for UK Sacred Harp Calendar
BEGIN:VTIMEZONE
TZID:Europe/London
BEGIN:DAYLIGHT
TZOFFSETFROM:+0000
TZOFFSETTO:+0100
TZNAME:BST
DTSTART:20050327T010000
END:DAYLIGHT
BEGIN:STANDARD
TZOFFSETFROM:+0100
TZOFFSETTO:+0000
TZNAME:GMT
DTSTART:20051030T010000
END:STANDARD
END:VTIMEZONE
BEGIN:VEVENT
DTSTART;TZID=Europe/London:20050320T103000
DTEND;TZID=Europe/London:20050320T160000
DTSTAMP:20260421T214329
CREATED:20220213T213239Z
LAST-MODIFIED:20220213T214001Z
UID:1335-1111314600-1111334400@www.sacredharp.uk
SUMMARY:Palm Sunday singing
DESCRIPTION:
URL:https://www.sacredharp.uk/event/palm-sunday-singing/2005-03-20/
LOCATION:Finstock Village Hall\, Well Hill\, Finstock\, Chipping Norton\, Oxfordshire\, OX7 3BU\, United Kingdom
CATEGORIES:1991 edition Sacred Harp
ORGANIZER;CN="Mandy%20Townsend":MAILTO:mandypigs@aol.com
STATUS:CONFIRMED
END:VEVENT
END:VCALENDAR