BEGIN:VCALENDAR
VERSION:2.0
PRODID:-//UK Sacred Harp Calendar - ECPv5.16.4.1//NONSGML v1.0//EN
CALSCALE:GREGORIAN
METHOD:PUBLISH
X-WR-CALNAME:UK Sacred Harp Calendar
X-ORIGINAL-URL:https://www.sacredharp.uk
X-WR-CALDESC:Events for UK Sacred Harp Calendar
BEGIN:VTIMEZONE
TZID:Europe/London
BEGIN:DAYLIGHT
TZOFFSETFROM:+0000
TZOFFSETTO:+0100
TZNAME:BST
DTSTART:20260329T010000
END:DAYLIGHT
BEGIN:STANDARD
TZOFFSETFROM:+0100
TZOFFSETTO:+0000
TZNAME:GMT
DTSTART:20261025T010000
END:STANDARD
END:VTIMEZONE
BEGIN:VEVENT
DTSTART;TZID=Europe/London:20260329T103000
DTEND;TZID=Europe/London:20260329T153000
DTSTAMP:20260424T104527
CREATED:20240318T215028Z
LAST-MODIFIED:20260319T225053Z
UID:2675-1774780200-1774798200@www.sacredharp.uk
SUMMARY:Palm Sunday singing
DESCRIPTION:
URL:https://www.sacredharp.uk/event/palm-sunday-singing/2026-03-29/
LOCATION:Cumnor Village Hall\, Leys Road\, Cumnor\, Oxfordshire\, OX2 9QF\, United Kingdom
CATEGORIES:2025 edition Sacred Harp
ORGANIZER;CN="Mandy%20Townsend":MAILTO:mandypigs@aol.com
STATUS:CONFIRMED
END:VEVENT
END:VCALENDAR