BEGIN:VCALENDAR
VERSION:2.0
PRODID:-//UK Sacred Harp Calendar - ECPv5.16.4.1//NONSGML v1.0//EN
CALSCALE:GREGORIAN
METHOD:PUBLISH
X-WR-CALNAME:UK Sacred Harp Calendar
X-ORIGINAL-URL:https://www.sacredharp.uk
X-WR-CALDESC:Events for UK Sacred Harp Calendar
BEGIN:VTIMEZONE
TZID:Europe/Paris
BEGIN:DAYLIGHT
TZOFFSETFROM:+0100
TZOFFSETTO:+0200
TZNAME:CEST
DTSTART:20170326T010000
END:DAYLIGHT
BEGIN:STANDARD
TZOFFSETFROM:+0200
TZOFFSETTO:+0100
TZNAME:CET
DTSTART:20171029T010000
END:STANDARD
END:VTIMEZONE
BEGIN:VEVENT
DTSTART;TZID=Europe/Paris:20170415T103000
DTEND;TZID=Europe/Paris:20170415T160000
DTSTAMP:20260422T232646
CREATED:20220212T182404Z
LAST-MODIFIED:20220212T183218Z
UID:1035-1492252200-1492272000@www.sacredharp.uk
SUMMARY:Paris singing
DESCRIPTION:
URL:https://www.sacredharp.uk/event/paris-singing/2017-04-15/
LOCATION:Fondation des États-Unis\, 15 Boulevard Jourdan\, Paris\, 75014\, France
CATEGORIES:1991 edition Sacred Harp
ORGANIZER;CN="Leopoldine%20Guillaume":MAILTO:leopoldine.guillaume@gmail.com
STATUS:CONFIRMED
END:VEVENT
END:VCALENDAR