BEGIN:VCALENDAR
VERSION:2.0
PRODID:-//UK Sacred Harp Calendar - ECPv5.16.4.1//NONSGML v1.0//EN
CALSCALE:GREGORIAN
METHOD:PUBLISH
X-WR-CALNAME:UK Sacred Harp Calendar
X-ORIGINAL-URL:https://www.sacredharp.uk
X-WR-CALDESC:Events for UK Sacred Harp Calendar
BEGIN:VTIMEZONE
TZID:Europe/London
BEGIN:DAYLIGHT
TZOFFSETFROM:+0000
TZOFFSETTO:+0100
TZNAME:BST
DTSTART:20160327T010000
END:DAYLIGHT
BEGIN:STANDARD
TZOFFSETFROM:+0100
TZOFFSETTO:+0000
TZNAME:GMT
DTSTART:20161030T010000
END:STANDARD
END:VTIMEZONE
BEGIN:VEVENT
DTSTART;TZID=Europe/London:20160820T103000
DTEND;TZID=Europe/London:20160820T160000
DTSTAMP:20260420T091527
CREATED:20220908T205449Z
LAST-MODIFIED:20220908T210158Z
UID:1952-1471689000-1471708800@www.sacredharp.uk
SUMMARY:Scotland singing
DESCRIPTION:
URL:https://www.sacredharp.uk/event/scotland-singing/2016-08-20/
LOCATION:Kelvinside Hillhead Parish Church\, Saltoun St\, Glasgow\, G12 9AR\, United Kingdom
CATEGORIES:1991 edition Sacred Harp
STATUS:CONFIRMED
END:VEVENT
END:VCALENDAR