BEGIN:VCALENDAR
VERSION:2.0
PRODID:-//UK Sacred Harp Calendar - ECPv5.16.4.1//NONSGML v1.0//EN
CALSCALE:GREGORIAN
METHOD:PUBLISH
X-WR-CALNAME:UK Sacred Harp Calendar
X-ORIGINAL-URL:https://www.sacredharp.uk
X-WR-CALDESC:Events for UK Sacred Harp Calendar
BEGIN:VTIMEZONE
TZID:Europe/London
BEGIN:DAYLIGHT
TZOFFSETFROM:+0000
TZOFFSETTO:+0100
TZNAME:BST
DTSTART:20260329T010000
END:DAYLIGHT
BEGIN:STANDARD
TZOFFSETFROM:+0100
TZOFFSETTO:+0000
TZNAME:GMT
DTSTART:20261025T010000
END:STANDARD
END:VTIMEZONE
BEGIN:VEVENT
DTSTART;TZID=Europe/London:20260829T140000
DTEND;TZID=Europe/London:20260829T180000
DTSTAMP:20260421T125056
CREATED:20251009T120423Z
LAST-MODIFIED:20251009T120424Z
UID:3110-1788012000-1788026400@www.sacredharp.uk
SUMMARY:Southampton Christian Harmony singing
DESCRIPTION:
URL:https://www.sacredharp.uk/event/southampton-christian-harmony-singing/2026-08-29/
LOCATION:St Denys Boat Club\, Priory Ave\, Southampton\, SO17 2LT\, United Kingdom
CATEGORIES:Christian Harmony
ORGANIZER;CN="Ed%20Johnson-Williams":MAILTO:ed@johnsonwilliams.co.uk
END:VEVENT
END:VCALENDAR