BEGIN:VCALENDAR
VERSION:2.0
PRODID:-//UK Sacred Harp Calendar - ECPv5.16.4.1//NONSGML v1.0//EN
CALSCALE:GREGORIAN
METHOD:PUBLISH
X-WR-CALNAME:UK Sacred Harp Calendar
X-ORIGINAL-URL:https://www.sacredharp.uk
X-WR-CALDESC:Events for UK Sacred Harp Calendar
BEGIN:VTIMEZONE
TZID:Europe/London
BEGIN:DAYLIGHT
TZOFFSETFROM:+0000
TZOFFSETTO:+0100
TZNAME:BST
DTSTART:20220327T010000
END:DAYLIGHT
BEGIN:STANDARD
TZOFFSETFROM:+0100
TZOFFSETTO:+0000
TZNAME:GMT
DTSTART:20221030T010000
END:STANDARD
END:VTIMEZONE
BEGIN:VEVENT
DTSTART;TZID=Europe/London:20221112T103000
DTEND;TZID=Europe/London:20221112T153000
DTSTAMP:20260421T100108
CREATED:20220213T084415Z
LAST-MODIFIED:20221104T081018Z
UID:1123-1668249000-1668267000@www.sacredharp.uk
SUMMARY:Stapleford singing
DESCRIPTION:Denson book only in 2022\, no Cooper book.\nNegative lateral flow test required.
URL:https://www.sacredharp.uk/event/stapleford-singing/2022-11-12/
LOCATION:Stapleford Baptist Church\, Albert Street\, Stapleford\, Nottinghamshire\, NG9 8DB\, United Kingdom
CATEGORIES:1991 edition Sacred Harp
ORGANIZER;CN="Helen%20Brown":MAILTO:helen.bs.brown@gmail.com
STATUS:CONFIRMED
END:VEVENT
END:VCALENDAR