BEGIN:VCALENDAR
VERSION:2.0
PRODID:-//UK Sacred Harp Calendar - ECPv5.16.4.1//NONSGML v1.0//EN
CALSCALE:GREGORIAN
METHOD:PUBLISH
X-WR-CALNAME:UK Sacred Harp Calendar
X-ORIGINAL-URL:https://www.sacredharp.uk
X-WR-CALDESC:Events for UK Sacred Harp Calendar
BEGIN:VTIMEZONE
TZID:Europe/London
BEGIN:DAYLIGHT
TZOFFSETFROM:+0000
TZOFFSETTO:+0100
TZNAME:BST
DTSTART:19960331T010000
END:DAYLIGHT
BEGIN:STANDARD
TZOFFSETFROM:+0100
TZOFFSETTO:+0000
TZNAME:GMT
DTSTART:19961027T010000
END:STANDARD
END:VTIMEZONE
BEGIN:VEVENT
DTSTART;TZID=Europe/London:19960914T103000
DTEND;TZID=Europe/London:19960915T160000
DTSTAMP:20260421T095300
CREATED:20220213T120442Z
LAST-MODIFIED:20220213T120935Z
UID:1156-842697000-842803200@www.sacredharp.uk
SUMMARY:UK convention
DESCRIPTION:
URL:https://www.sacredharp.uk/event/uk-convention/1996-09-14/
LOCATION:Woodside Hall\, Walsworth Rd\, Hitchin\, Hertfordshire\, SG4 9SP\, United Kingdom
CATEGORIES:1991 edition Sacred Harp
ORGANIZER;CN="Steve%20Fletcher":MAILTO:stevie.fletcher@ntlworld.com
STATUS:CONFIRMED
END:VEVENT
END:VCALENDAR